BEGIN:VCALENDAR
VERSION:2.0
PRODID:-//San Bernardino County Sheriff’s Jobs - ECPv6.15.14//NONSGML v1.0//EN
CALSCALE:GREGORIAN
METHOD:PUBLISH
X-WR-CALNAME:San Bernardino County Sheriff’s Jobs
X-ORIGINAL-URL:https://sheriffsjobs.sbcounty.gov
X-WR-CALDESC:Events for San Bernardino County Sheriff’s Jobs
REFRESH-INTERVAL;VALUE=DURATION:PT1H
X-Robots-Tag:noindex
X-PUBLISHED-TTL:PT1H
BEGIN:VTIMEZONE
TZID:America/Los_Angeles
BEGIN:DAYLIGHT
TZOFFSETFROM:-0800
TZOFFSETTO:-0700
TZNAME:PDT
DTSTART:20230312T100000
END:DAYLIGHT
BEGIN:STANDARD
TZOFFSETFROM:-0700
TZOFFSETTO:-0800
TZNAME:PST
DTSTART:20231105T090000
END:STANDARD
BEGIN:DAYLIGHT
TZOFFSETFROM:-0800
TZOFFSETTO:-0700
TZNAME:PDT
DTSTART:20240310T100000
END:DAYLIGHT
BEGIN:STANDARD
TZOFFSETFROM:-0700
TZOFFSETTO:-0800
TZNAME:PST
DTSTART:20241103T090000
END:STANDARD
BEGIN:DAYLIGHT
TZOFFSETFROM:-0800
TZOFFSETTO:-0700
TZNAME:PDT
DTSTART:20250309T100000
END:DAYLIGHT
BEGIN:STANDARD
TZOFFSETFROM:-0700
TZOFFSETTO:-0800
TZNAME:PST
DTSTART:20251102T090000
END:STANDARD
END:VTIMEZONE
BEGIN:VEVENT
DTSTART;TZID=America/Los_Angeles:20240928T090000
DTEND;TZID=America/Los_Angeles:20240928T120000
DTSTAMP:20260420T170134
CREATED:20240904T235737Z
LAST-MODIFIED:20240904T235737Z
UID:28435-1727514000-1727524800@sheriffsjobs.sbcounty.gov
SUMMARY:City of Rancho Cucamonga Hiring Fair
DESCRIPTION:  \n \nThe City of Rancho Cucamonga is hosting its annual Hiring Fair! \nJoin the City and the Rancho Cucamonga Chamber of Commerce at the 2024 Hiring Fair on Saturday\, September 28\, 2024 from 9 a.m. to 12 p.m. in David Dreier Hall at Central Park (11200 Base Line Rd.).
URL:https://sheriffsjobs.sbcounty.gov/event/city-of-rancho-cucamonga-hiring-fair-092824/
LOCATION:Central Park Rancho Cucamonga\, 11200 Base Line Rd\, Rancho Cucamonga\, CA\, 91701\, United States
CATEGORIES:Recruiting Events
END:VEVENT
END:VCALENDAR