BEGIN:VCALENDAR
VERSION:2.0
PRODID:-//San Bernardino County Sheriff’s Jobs - ECPv6.15.14//NONSGML v1.0//EN
CALSCALE:GREGORIAN
METHOD:PUBLISH
X-ORIGINAL-URL:https://sheriffsjobs.sbcounty.gov
X-WR-CALDESC:Events for San Bernardino County Sheriff’s Jobs
REFRESH-INTERVAL;VALUE=DURATION:PT1H
X-Robots-Tag:noindex
X-PUBLISHED-TTL:PT1H
BEGIN:VTIMEZONE
TZID:America/Los_Angeles
BEGIN:DAYLIGHT
TZOFFSETFROM:-0800
TZOFFSETTO:-0700
TZNAME:PDT
DTSTART:20230312T100000
END:DAYLIGHT
BEGIN:STANDARD
TZOFFSETFROM:-0700
TZOFFSETTO:-0800
TZNAME:PST
DTSTART:20231105T090000
END:STANDARD
BEGIN:DAYLIGHT
TZOFFSETFROM:-0800
TZOFFSETTO:-0700
TZNAME:PDT
DTSTART:20240310T100000
END:DAYLIGHT
BEGIN:STANDARD
TZOFFSETFROM:-0700
TZOFFSETTO:-0800
TZNAME:PST
DTSTART:20241103T090000
END:STANDARD
BEGIN:DAYLIGHT
TZOFFSETFROM:-0800
TZOFFSETTO:-0700
TZNAME:PDT
DTSTART:20250309T100000
END:DAYLIGHT
BEGIN:STANDARD
TZOFFSETFROM:-0700
TZOFFSETTO:-0800
TZNAME:PST
DTSTART:20251102T090000
END:STANDARD
END:VTIMEZONE
BEGIN:VEVENT
DTSTART;TZID=America/Los_Angeles:20241208T150000
DTEND;TZID=America/Los_Angeles:20241208T180000
DTSTAMP:20260423T031506
CREATED:20241204T160053Z
LAST-MODIFIED:20241204T161643Z
UID:10001709-1733670000-1733680800@sheriffsjobs.sbcounty.gov
SUMMARY:Ontario Reign - Pride Night
DESCRIPTION:San Bernardino County Sheriff’s recruiters will be in attendance at the Ontario Reign game. Ontario’s season-long Hockey is for Everyone series continues with Pride Night presented by Blue Shield of California! Speak to a Sheriff’s Recruiter located in the main arena entrance.
URL:https://sheriffsjobs.sbcounty.gov/event/ontario-reign-pride-night-120824/
LOCATION:Toyota Arena\, 4000 E Ontario Center Pkwy\, Ontario\, CA\, 91764\, United States
CATEGORIES:Recruiting Events
END:VEVENT
END:VCALENDAR