BEGIN:VCALENDAR
VERSION:2.0
PRODID:-//San Bernardino County Sheriff’s Jobs - ECPv6.15.14//NONSGML v1.0//EN
CALSCALE:GREGORIAN
METHOD:PUBLISH
X-ORIGINAL-URL:https://sheriffsjobs.sbcounty.gov
X-WR-CALDESC:Events for San Bernardino County Sheriff’s Jobs
REFRESH-INTERVAL;VALUE=DURATION:PT1H
X-Robots-Tag:noindex
X-PUBLISHED-TTL:PT1H
BEGIN:VTIMEZONE
TZID:America/Los_Angeles
BEGIN:DAYLIGHT
TZOFFSETFROM:-0800
TZOFFSETTO:-0700
TZNAME:PDT
DTSTART:20250309T100000
END:DAYLIGHT
BEGIN:STANDARD
TZOFFSETFROM:-0700
TZOFFSETTO:-0800
TZNAME:PST
DTSTART:20251102T090000
END:STANDARD
BEGIN:DAYLIGHT
TZOFFSETFROM:-0800
TZOFFSETTO:-0700
TZNAME:PDT
DTSTART:20260308T100000
END:DAYLIGHT
BEGIN:STANDARD
TZOFFSETFROM:-0700
TZOFFSETTO:-0800
TZNAME:PST
DTSTART:20261101T090000
END:STANDARD
BEGIN:DAYLIGHT
TZOFFSETFROM:-0800
TZOFFSETTO:-0700
TZNAME:PDT
DTSTART:20270314T100000
END:DAYLIGHT
BEGIN:STANDARD
TZOFFSETFROM:-0700
TZOFFSETTO:-0800
TZNAME:PST
DTSTART:20271107T090000
END:STANDARD
END:VTIMEZONE
BEGIN:VEVENT
DTSTART;TZID=America/Los_Angeles:20260324T113000
DTEND;TZID=America/Los_Angeles:20260324T133000
DTSTAMP:20260421T170711
CREATED:20260312T230226Z
LAST-MODIFIED:20260312T230226Z
UID:10002595-1774351800-1774359000@sheriffsjobs.sbcounty.gov
SUMMARY:APU Humanities & Criminal Justice Employer Spotlight
DESCRIPTION:The San Bernardino County Sheriff Department will be at Azusa Pacific University Humanities & Criminal Justice Employer Spotlight located in APU’s Wilden Hall\, reserved exclusively for Humanities and Criminal Justice students. \nSpeak with a Sheriff Recruiter and learn about the amazing career opportunities we have to offer.
URL:https://sheriffsjobs.sbcounty.gov/event/apu-humanities-criminal-justice-employer-spotlight-032426/
LOCATION:Azusa Pacific University\, 901 East Alosta Ave\, Azusa\, CA\, 91702\, United States
CATEGORIES:Recruiting Events
END:VEVENT
END:VCALENDAR