BEGIN:VCALENDAR
VERSION:2.0
PRODID:-//San Bernardino County Sheriff’s Jobs - ECPv6.15.14//NONSGML v1.0//EN
CALSCALE:GREGORIAN
METHOD:PUBLISH
X-WR-CALNAME:San Bernardino County Sheriff’s Jobs
X-ORIGINAL-URL:https://sheriffsjobs.sbcounty.gov
X-WR-CALDESC:Events for San Bernardino County Sheriff’s Jobs
REFRESH-INTERVAL;VALUE=DURATION:PT1H
X-Robots-Tag:noindex
X-PUBLISHED-TTL:PT1H
BEGIN:VTIMEZONE
TZID:America/Los_Angeles
BEGIN:DAYLIGHT
TZOFFSETFROM:-0800
TZOFFSETTO:-0700
TZNAME:PDT
DTSTART:20230312T100000
END:DAYLIGHT
BEGIN:STANDARD
TZOFFSETFROM:-0700
TZOFFSETTO:-0800
TZNAME:PST
DTSTART:20231105T090000
END:STANDARD
BEGIN:DAYLIGHT
TZOFFSETFROM:-0800
TZOFFSETTO:-0700
TZNAME:PDT
DTSTART:20240310T100000
END:DAYLIGHT
BEGIN:STANDARD
TZOFFSETFROM:-0700
TZOFFSETTO:-0800
TZNAME:PST
DTSTART:20241103T090000
END:STANDARD
BEGIN:DAYLIGHT
TZOFFSETFROM:-0800
TZOFFSETTO:-0700
TZNAME:PDT
DTSTART:20250309T100000
END:DAYLIGHT
BEGIN:STANDARD
TZOFFSETFROM:-0700
TZOFFSETTO:-0800
TZNAME:PST
DTSTART:20251102T090000
END:STANDARD
BEGIN:DAYLIGHT
TZOFFSETFROM:-0800
TZOFFSETTO:-0700
TZNAME:PDT
DTSTART:20260308T100000
END:DAYLIGHT
BEGIN:STANDARD
TZOFFSETFROM:-0700
TZOFFSETTO:-0800
TZNAME:PST
DTSTART:20261101T090000
END:STANDARD
END:VTIMEZONE
BEGIN:VEVENT
DTSTART;TZID=America/Los_Angeles:20250911T083000
DTEND;TZID=America/Los_Angeles:20250911T130000
DTSTAMP:20260425T174256
CREATED:20250724T190736Z
LAST-MODIFIED:20250724T190736Z
UID:10002150-1757579400-1757595600@sheriffsjobs.sbcounty.gov
SUMMARY:Physical Agility Test
DESCRIPTION:Are you ready to start your career in law enforcement? The Physical Agility Test (PAT) is one of the first steps to start the process. Check-in starts at 8:30am and the event takes about three hours to complete. The PAT consists of a 99yd Obstacle Course\, 165lb Body Drag\, Chain Link Fence\, 6ft Solid Wall and 500yd Sprint. \nWalk-ups are welcome. Dress in workout attire and bring your own water. See you there!
URL:https://sheriffsjobs.sbcounty.gov/event/physical-agility-test-091125/
LOCATION:Sheriff’s Academy\, 18901 Institution Rd\, San Bernardino\, CA\, 92407\, United States
CATEGORIES:Physical Agility Test
END:VEVENT
BEGIN:VEVENT
DTSTART;TZID=America/Los_Angeles:20250906T083000
DTEND;TZID=America/Los_Angeles:20250906T130000
DTSTAMP:20260425T174257
CREATED:20250724T190546Z
LAST-MODIFIED:20250724T190546Z
UID:10002147-1757147400-1757163600@sheriffsjobs.sbcounty.gov
SUMMARY:Physical Agility Test
DESCRIPTION:Are you ready to start your career in law enforcement? The Physical Agility Test (PAT) is one of the first steps to start the process. Check-in starts at 8:30am and the event takes about three hours to complete. The PAT consists of a 99yd Obstacle Course\, 165lb Body Drag\, Chain Link Fence\, 6ft Solid Wall and 500yd Sprint. \nWalk-ups are welcome. Dress in workout attire and bring your own water. See you there!
URL:https://sheriffsjobs.sbcounty.gov/event/physical-agility-test-090625/
LOCATION:Sheriff’s Academy\, 18901 Institution Rd\, San Bernardino\, CA\, 92407\, United States
CATEGORIES:Physical Agility Test
END:VEVENT
BEGIN:VEVENT
DTSTART;TZID=America/Los_Angeles:20250821T083000
DTEND;TZID=America/Los_Angeles:20250821T130000
DTSTAMP:20260425T174257
CREATED:20250724T190501Z
LAST-MODIFIED:20250724T190501Z
UID:10002144-1755765000-1755781200@sheriffsjobs.sbcounty.gov
SUMMARY:Physical Agility Test
DESCRIPTION:Are you ready to start your career in law enforcement? The Physical Agility Test (PAT) is one of the first steps to start the process. Check-in starts at 8:30am and the event takes about three hours to complete. The PAT consists of a 99yd Obstacle Course\, 165lb Body Drag\, Chain Link Fence\, 6ft Solid Wall and 500yd Sprint. \nWalk-ups are welcome. Dress in workout attire and bring your own water. See you there!
URL:https://sheriffsjobs.sbcounty.gov/event/physical-agility-test-082125/
LOCATION:Sheriff’s Academy\, 18901 Institution Rd\, San Bernardino\, CA\, 92407\, United States
CATEGORIES:Physical Agility Test
END:VEVENT
BEGIN:VEVENT
DTSTART;TZID=America/Los_Angeles:20250809T083000
DTEND;TZID=America/Los_Angeles:20250809T130000
DTSTAMP:20260425T174257
CREATED:20250724T190427Z
LAST-MODIFIED:20250724T190508Z
UID:10002141-1754728200-1754744400@sheriffsjobs.sbcounty.gov
SUMMARY:Physical Agility Test
DESCRIPTION:Are you ready to start your career in law enforcement? The Physical Agility Test (PAT) is one of the first steps to start the process. Check-in starts at 8:30am and the event takes about three hours to complete. The PAT consists of a 99yd Obstacle Course\, 165lb Body Drag\, Chain Link Fence\, 6ft Solid Wall and 500yd Sprint. \nWalk-ups are welcome. Dress in workout attire and bring your own water. See you there!
URL:https://sheriffsjobs.sbcounty.gov/event/physical-agility-test-080925/
LOCATION:Sheriff’s Academy\, 18901 Institution Rd\, San Bernardino\, CA\, 92407\, United States
CATEGORIES:Physical Agility Test
END:VEVENT
BEGIN:VEVENT
DTSTART;TZID=America/Los_Angeles:20250717T083000
DTEND;TZID=America/Los_Angeles:20250717T130000
DTSTAMP:20260425T174257
CREATED:20250616T235144Z
LAST-MODIFIED:20250616T235144Z
UID:10002061-1752741000-1752757200@sheriffsjobs.sbcounty.gov
SUMMARY:Physical Agility Test
DESCRIPTION:Are you ready to start your career in law enforcement? The Physical Agility Test (PAT) is one of the first steps to start the process. Check-in starts at 8:30am and the event takes about three hours to complete. The PAT consists of a 99yd Obstacle Course\, 165lb Body Drag\, Chain Link Fence\, 6ft Solid Wall and 500yd Sprint. \nWalk-ups are welcome. Dress in workout attire and bring your own water. See you there!
URL:https://sheriffsjobs.sbcounty.gov/event/physical-agility-test-071725/
LOCATION:Sheriff’s Academy\, 18901 Institution Rd\, San Bernardino\, CA\, 92407\, United States
CATEGORIES:Physical Agility Test
END:VEVENT
BEGIN:VEVENT
DTSTART;TZID=America/Los_Angeles:20250712T083000
DTEND;TZID=America/Los_Angeles:20250712T130000
DTSTAMP:20260425T174257
CREATED:20250616T235050Z
LAST-MODIFIED:20250616T235050Z
UID:10002058-1752309000-1752325200@sheriffsjobs.sbcounty.gov
SUMMARY:Physical Agility Test
DESCRIPTION:Are you ready to start your career in law enforcement? The Physical Agility Test (PAT) is one of the first steps to start the process. Check-in starts at 8:30am and the event takes about three hours to complete. The PAT consists of a 99yd Obstacle Course\, 165lb Body Drag\, Chain Link Fence\, 6ft Solid Wall and 500yd Sprint. \nWalk-ups are welcome. Dress in workout attire and bring your own water. See you there!
URL:https://sheriffsjobs.sbcounty.gov/event/physical-agility-test-071225/
LOCATION:Sheriff’s Academy\, 18901 Institution Rd\, San Bernardino\, CA\, 92407\, United States
CATEGORIES:Physical Agility Test
END:VEVENT
BEGIN:VEVENT
DTSTART;TZID=America/Los_Angeles:20250612T083000
DTEND;TZID=America/Los_Angeles:20250612T130000
DTSTAMP:20260425T174257
CREATED:20250417T225611Z
LAST-MODIFIED:20250417T225611Z
UID:10001954-1749717000-1749733200@sheriffsjobs.sbcounty.gov
SUMMARY:Physical Agility Test
DESCRIPTION:Are you ready to start your career in law enforcement? The Physical Agility Test (PAT) is one of the first steps to start the process. Check-in starts at 8:30am and the event takes about three hours to complete. The PAT consists of a 99yd Obstacle Course\, 165lb Body Drag\, Chain Link Fence\, 6ft Solid Wall and 500yd Sprint. \nWalk-ups are welcome. Dress in workout attire and bring your own water. See you there!
URL:https://sheriffsjobs.sbcounty.gov/event/physical-agility-test-061225/
LOCATION:Sheriff’s Academy\, 18901 Institution Rd\, San Bernardino\, CA\, 92407\, United States
CATEGORIES:Physical Agility Test
END:VEVENT
BEGIN:VEVENT
DTSTART;TZID=America/Los_Angeles:20250607T083000
DTEND;TZID=America/Los_Angeles:20250607T130000
DTSTAMP:20260425T174257
CREATED:20250417T225549Z
LAST-MODIFIED:20250417T225549Z
UID:10001951-1749285000-1749301200@sheriffsjobs.sbcounty.gov
SUMMARY:Physical Agility Test
DESCRIPTION:Are you ready to start your career in law enforcement? The Physical Agility Test (PAT) is one of the first steps to start the process. Check-in starts at 8:30am and the event takes about three hours to complete. The PAT consists of a 99yd Obstacle Course\, 165lb Body Drag\, Chain Link Fence\, 6ft Solid Wall and 500yd Sprint. \nWalk-ups are welcome. Dress in workout attire and bring your own water. See you there!
URL:https://sheriffsjobs.sbcounty.gov/event/physical-agility-test-060725/
LOCATION:Sheriff’s Academy\, 18901 Institution Rd\, San Bernardino\, CA\, 92407\, United States
CATEGORIES:Physical Agility Test
END:VEVENT
BEGIN:VEVENT
DTSTART;TZID=America/Los_Angeles:20250508T083000
DTEND;TZID=America/Los_Angeles:20250508T130000
DTSTAMP:20260425T174257
CREATED:20250417T225525Z
LAST-MODIFIED:20250417T225525Z
UID:10001948-1746693000-1746709200@sheriffsjobs.sbcounty.gov
SUMMARY:Physical Agility Test
DESCRIPTION:Are you ready to start your career in law enforcement? The Physical Agility Test (PAT) is one of the first steps to start the process. Check-in starts at 8:30am and the event takes about three hours to complete. The PAT consists of a 99yd Obstacle Course\, 165lb Body Drag\, Chain Link Fence\, 6ft Solid Wall and 500yd Sprint. \nWalk-ups are welcome. Dress in workout attire and bring your own water. See you there!
URL:https://sheriffsjobs.sbcounty.gov/event/physical-agility-test-050825/
LOCATION:Sheriff’s Academy\, 18901 Institution Rd\, San Bernardino\, CA\, 92407\, United States
CATEGORIES:Physical Agility Test
END:VEVENT
BEGIN:VEVENT
DTSTART;TZID=America/Los_Angeles:20250503T083000
DTEND;TZID=America/Los_Angeles:20250503T130000
DTSTAMP:20260425T174257
CREATED:20250417T225501Z
LAST-MODIFIED:20250417T225501Z
UID:10001945-1746261000-1746277200@sheriffsjobs.sbcounty.gov
SUMMARY:Physical Agility Test
DESCRIPTION:Are you ready to start your career in law enforcement? The Physical Agility Test (PAT) is one of the first steps to start the process. Check-in starts at 8:30am and the event takes about three hours to complete. The PAT consists of a 99yd Obstacle Course\, 165lb Body Drag\, Chain Link Fence\, 6ft Solid Wall and 500yd Sprint. \nWalk-ups are welcome. Dress in workout attire and bring your own water. See you there!
URL:https://sheriffsjobs.sbcounty.gov/event/physical-agility-test-050325/
LOCATION:Sheriff’s Academy\, 18901 Institution Rd\, San Bernardino\, CA\, 92407\, United States
CATEGORIES:Physical Agility Test
END:VEVENT
BEGIN:VEVENT
DTSTART;TZID=America/Los_Angeles:20250412T090000
DTEND;TZID=America/Los_Angeles:20250412T160000
DTSTAMP:20260425T174258
CREATED:20250213T224821Z
LAST-MODIFIED:20250213T224821Z
UID:10001841-1744448400-1744473600@sheriffsjobs.sbcounty.gov
SUMMARY:Sheriff's Spring Hiring Event
DESCRIPTION:Looking for a career with the San Bernardino County Sheriff’s Department? Join us at the Sheriff’s Spring Hiring Event on April 12th\, 2025 starting at 9am. Successful applicants can expect to be interviewed by a background investigator after completing the physical agility test. Walk-ups are welcome! \nInterested in starting a career as a Sheriff’s Dispatcher? Join us at one of our informational sessions during our Spring Hiring Event. You will experience a presentation from our own dispatchers\, including on-the-job experiences and application best practices. You will also have a chance to ask any questions you may have about dispatch\, plus we will have HR representatives on site to help submit your application! \nDST PAT Registration \n Dispatch Info Session
URL:https://sheriffsjobs.sbcounty.gov/event/sheriffs-spring-hiring-event-041225/
LOCATION:Sheriff’s Academy\, 18901 Institution Rd\, San Bernardino\, CA\, 92407\, United States
CATEGORIES:Applicant Assistance Program Information Session,Physical Agility Test,Recruiting Events
END:VEVENT
BEGIN:VEVENT
DTSTART;TZID=America/Los_Angeles:20250305T083000
DTEND;TZID=America/Los_Angeles:20250305T120000
DTSTAMP:20260425T174258
CREATED:20250102T225833Z
LAST-MODIFIED:20250102T225833Z
UID:10001784-1741163400-1741176000@sheriffsjobs.sbcounty.gov
SUMMARY:Physical Agility Test
DESCRIPTION:Are you ready to start your career in law enforcement? The Physical Agility Test (PAT) is one of the first steps to start the process. Check-in starts at 8:30am and the event takes about three hours to complete. The PAT consists of a 99yd Obstacle Course\, 165lb Body Drag\, Chain Link Fence\, 6ft Solid Wall and 500yd Sprint. \nWalk-ups are welcome. Dress in workout attire and bring your own water. See you there!
URL:https://sheriffsjobs.sbcounty.gov/event/physical-agility-test-030525/
LOCATION:Sheriff’s Academy\, 18901 Institution Rd\, San Bernardino\, CA\, 92407\, United States
CATEGORIES:Physical Agility Test
END:VEVENT
BEGIN:VEVENT
DTSTART;TZID=America/Los_Angeles:20250301T083000
DTEND;TZID=America/Los_Angeles:20250301T120000
DTSTAMP:20260425T174258
CREATED:20250102T225804Z
LAST-MODIFIED:20250102T225804Z
UID:10001781-1740817800-1740830400@sheriffsjobs.sbcounty.gov
SUMMARY:Physical Agility Test
DESCRIPTION:Are you ready to start your career in law enforcement? The Physical Agility Test (PAT) is one of the first steps to start the process. Check-in starts at 8:30am and the event takes about three hours to complete. The PAT consists of a 99yd Obstacle Course\, 165lb Body Drag\, Chain Link Fence\, 6ft Solid Wall and 500yd Sprint. \nWalk-ups are welcome. Dress in workout attire and bring your own water. See you there!
URL:https://sheriffsjobs.sbcounty.gov/event/physical-agility-test-030125/
LOCATION:Sheriff’s Academy\, 18901 Institution Rd\, San Bernardino\, CA\, 92407\, United States
CATEGORIES:Physical Agility Test
END:VEVENT
BEGIN:VEVENT
DTSTART;TZID=America/Los_Angeles:20250205T083000
DTEND;TZID=America/Los_Angeles:20250205T120000
DTSTAMP:20260425T174258
CREATED:20250102T225730Z
LAST-MODIFIED:20250102T225730Z
UID:10001778-1738744200-1738756800@sheriffsjobs.sbcounty.gov
SUMMARY:Physical Agility Test
DESCRIPTION:Are you ready to start your career in law enforcement? The Physical Agility Test (PAT) is one of the first steps to start the process. Check-in starts at 8:30am and the event takes about three hours to complete. The PAT consists of a 99yd Obstacle Course\, 165lb Body Drag\, Chain Link Fence\, 6ft Solid Wall and 500yd Sprint. \nWalk-ups are welcome. Dress in workout attire and bring your own water. See you there!
URL:https://sheriffsjobs.sbcounty.gov/event/physical-agility-test-020525/
LOCATION:Sheriff’s Academy\, 18901 Institution Rd\, San Bernardino\, CA\, 92407\, United States
CATEGORIES:Physical Agility Test
END:VEVENT
BEGIN:VEVENT
DTSTART;TZID=America/Los_Angeles:20250201T083000
DTEND;TZID=America/Los_Angeles:20250201T120000
DTSTAMP:20260425T174258
CREATED:20250102T225703Z
LAST-MODIFIED:20250102T225703Z
UID:10001775-1738398600-1738411200@sheriffsjobs.sbcounty.gov
SUMMARY:Physical Agility Test
DESCRIPTION:Are you ready to start your career in law enforcement? The Physical Agility Test (PAT) is one of the first steps to start the process. Check-in starts at 8:30am and the event takes about three hours to complete. The PAT consists of a 99yd Obstacle Course\, 165lb Body Drag\, Chain Link Fence\, 6ft Solid Wall and 500yd Sprint. \nWalk-ups are welcome. Dress in workout attire and bring your own water. See you there!
URL:https://sheriffsjobs.sbcounty.gov/event/physical-agility-test-020125/
LOCATION:Sheriff’s Academy\, 18901 Institution Rd\, San Bernardino\, CA\, 92407\, United States
CATEGORIES:Physical Agility Test
END:VEVENT
BEGIN:VEVENT
DTSTART;TZID=America/Los_Angeles:20250109T083000
DTEND;TZID=America/Los_Angeles:20250109T120000
DTSTAMP:20260425T174258
CREATED:20250102T225229Z
LAST-MODIFIED:20250102T225229Z
UID:10001772-1736411400-1736424000@sheriffsjobs.sbcounty.gov
SUMMARY:Physical Agility Test
DESCRIPTION:Are you ready to start your career in law enforcement? The Physical Agility Test (PAT) is one of the first steps to start the process. Check-in starts at 8:30am and the event takes about three hours to complete. The PAT consists of a 99yd Obstacle Course\, 165lb Body Drag\, Chain Link Fence\, 6ft Solid Wall and 500yd Sprint. \nWalk-ups are welcome. Dress in workout attire and bring your own water. See you there!
URL:https://sheriffsjobs.sbcounty.gov/event/physical-agility-test-010925/
LOCATION:Sheriff’s Academy\, 18901 Institution Rd\, San Bernardino\, CA\, 92407\, United States
CATEGORIES:Physical Agility Test
END:VEVENT
BEGIN:VEVENT
DTSTART;TZID=America/Los_Angeles:20250104T083000
DTEND;TZID=America/Los_Angeles:20250104T120000
DTSTAMP:20260425T174258
CREATED:20250102T225127Z
LAST-MODIFIED:20250102T225127Z
UID:10001769-1735979400-1735992000@sheriffsjobs.sbcounty.gov
SUMMARY:Physical Agility Test
DESCRIPTION:Are you ready to start your career in law enforcement? The Physical Agility Test (PAT) is one of the first steps to start the process. Check-in starts at 8:30am and the event takes about three hours to complete. The PAT consists of a 99yd Obstacle Course\, 165lb Body Drag\, Chain Link Fence\, 6ft Solid Wall and 500yd Sprint. \nWalk-ups are welcome. Dress in workout attire and bring your own water. See you there!
URL:https://sheriffsjobs.sbcounty.gov/event/physical-agility-test-010425/
LOCATION:Sheriff’s Academy\, 18901 Institution Rd\, San Bernardino\, CA\, 92407\, United States
CATEGORIES:Physical Agility Test
END:VEVENT
BEGIN:VEVENT
DTSTART;TZID=America/Los_Angeles:20241212T083000
DTEND;TZID=America/Los_Angeles:20241212T120000
DTSTAMP:20260425T174258
CREATED:20241118T160612Z
LAST-MODIFIED:20241118T160612Z
UID:10001696-1733992200-1734004800@sheriffsjobs.sbcounty.gov
SUMMARY:Physical Agility Test
DESCRIPTION:Are you ready to start your career in law enforcement? The Physical Agility Test (PAT) is one of the first steps to start the process. Check-in starts at 8:30am and the event takes about three hours to complete. The PAT consists of a 99yd Obstacle Course\, 165lb Body Drag\, Chain Link Fence\, 6ft Solid Wall and 500yd Sprint. \nWalk-ups are welcome. Dress in workout attire and bring your own water. See you there!
URL:https://sheriffsjobs.sbcounty.gov/event/physical-agility-test-121224/
LOCATION:Sheriff’s Academy\, 18901 Institution Rd\, San Bernardino\, CA\, 92407\, United States
CATEGORIES:Physical Agility Test
END:VEVENT
BEGIN:VEVENT
DTSTART;TZID=America/Los_Angeles:20241207T073000
DTEND;TZID=America/Los_Angeles:20241207T110000
DTSTAMP:20260425T174258
CREATED:20241118T160535Z
LAST-MODIFIED:20241120T204708Z
UID:10001693-1733556600-1733569200@sheriffsjobs.sbcounty.gov
SUMMARY:Physical Agility Test
DESCRIPTION:Are you ready to start your career in law enforcement? The Physical Agility Test (PAT) is one of the first steps to start the process. Check-in starts at 7:30am and the event takes about three hours to complete. The PAT consists of a 99yd Obstacle Course\, 165lb Body Drag\, Chain Link Fence\, 6ft Solid Wall and 500yd Sprint. \nWalk-ups are welcome. Dress in workout attire and bring your own water. See you there!
URL:https://sheriffsjobs.sbcounty.gov/event/physical-agility-test-120724/
LOCATION:Sheriff’s Academy\, 18901 Institution Rd\, San Bernardino\, CA\, 92407\, United States
CATEGORIES:Physical Agility Test
END:VEVENT
BEGIN:VEVENT
DTSTART;TZID=America/Los_Angeles:20241019T090000
DTEND;TZID=America/Los_Angeles:20241019T160000
DTSTAMP:20260425T174258
CREATED:20240830T231456Z
LAST-MODIFIED:20240911T175655Z
UID:10001567-1729328400-1729353600@sheriffsjobs.sbcounty.gov
SUMMARY:Sheriff's Fall Hiring Event
DESCRIPTION:Looking for a career with the San Bernardino County Sheriff’s Department? Join us at the Sheriff’s Fall Hiring Event where we will be hiring for Deputy Sheriff Trainees. Successful applicants can expect to be interviewed by a background investigator after completing the physical agility test. \nPlus\, we will have an information booth for non-sworn career opportunities within our department AND San Bernardino County HR will be onsite to answer any question about benefits and retirement options. If you are interested in Professional Staff careers\, no need to register ahead of time! Stop by our informational booth any time throughout the event. \nWalk-ups are welcome\, please wear athletic attire and bring your own water. \nRegistration Link – https://sbcsd-pat-101924.eventzilla.net/ \n  \nThe test consists of five events\, which are timed individually: \nEvent #1 – 99-YARD OBSTACLE COURSE \nRun a 99-yard obstacle course consisting of several sharp turns\, a number of curb-height obstacles\, and a 34-inch-high obstacle that must be vaulted. \nEvent #2 – BODY DRAG \nLift and drag 165-pound lifelike dummy 32 feet. \n**Event #3 – CHAIN LINK FENCE \nRun 5 yards to a 6-foot chain link fence\, climb over the fence\, and continue running another 25 yards. \n**Event #4 – SOLID WALL CLIMB \nRun 5 yards to a 6-foot wall\, scale the wall\, and continue running another 25 yards. \nEvent #5 – 500 YARD RUN \nRun 500 yards (equivalent to 1 lap plus 60 yards of a standard running track). \n  \n**Event is for assessment purposes only and will not be counted towards the overall score
URL:https://sheriffsjobs.sbcounty.gov/event/sheriffs-fall-hiring-event-101924/
LOCATION:Sheriff’s Academy\, 18901 Institution Rd\, San Bernardino\, CA\, 92407\, United States
CATEGORIES:Physical Agility Test,Recruiting Events
END:VEVENT
BEGIN:VEVENT
DTSTART;TZID=America/Los_Angeles:20240926T083000
DTEND;TZID=America/Los_Angeles:20240926T120000
DTSTAMP:20260425T174258
CREATED:20240904T230510Z
LAST-MODIFIED:20240910T184530Z
UID:10001582-1727339400-1727352000@sheriffsjobs.sbcounty.gov
SUMMARY:Physical Agility Test
DESCRIPTION:Are you ready to start your career in law enforcement? The Physical Agility Test (PAT) is one of the first steps to start the process. Check-in starts at 8:30am and the event takes about three hours to complete. The PAT consists of a 99yd Obstacle Course\, 165lb Body Drag\, Chain Link Fence\, 6ft Solid Wall and 500yd Sprint. \nWalk-ups are welcome. Dress in workout attire and bring your own water. See you there!
URL:https://sheriffsjobs.sbcounty.gov/event/physical-agility-test-092624/
LOCATION:Sheriff’s Academy\, 18901 Institution Rd\, San Bernardino\, CA\, 92407\, United States
CATEGORIES:Physical Agility Test
END:VEVENT
BEGIN:VEVENT
DTSTART;TZID=America/Los_Angeles:20240907T073000
DTEND;TZID=America/Los_Angeles:20240907T110000
DTSTAMP:20260425T174258
CREATED:20240904T230157Z
LAST-MODIFIED:20240904T230157Z
UID:10001579-1725694200-1725706800@sheriffsjobs.sbcounty.gov
SUMMARY:Physical Agility Test
DESCRIPTION:Are you ready to start your career in law enforcement? The Physical Agility Test (PAT) is one of the first steps to start the process. Check-in starts at 7:30am and the event takes about three hours to complete. The PAT consists of a 99yd Obstacle Course\, 165lb Body Drag\, Chain Link Fence\, 6ft Solid Wall and 500yd Sprint. \nWalk-ups are welcome. Dress in workout attire and bring your own water. See you there!
URL:https://sheriffsjobs.sbcounty.gov/event/physical-agility-test-090724/
LOCATION:Sheriff’s Academy\, 18901 Institution Rd\, San Bernardino\, CA\, 92407\, United States
CATEGORIES:Physical Agility Test
END:VEVENT
BEGIN:VEVENT
DTSTART;TZID=America/Los_Angeles:20240629T073000
DTEND;TZID=America/Los_Angeles:20240629T110000
DTSTAMP:20260425T174258
CREATED:20240515T221837Z
LAST-MODIFIED:20240516T000658Z
UID:10001375-1719646200-1719658800@sheriffsjobs.sbcounty.gov
SUMMARY:Physical Agility Test
DESCRIPTION:Are you ready to start your career in law enforcement? The Physical Agility Test (PAT) is one of the first steps to start the process. Check-in starts at 7:30am and the event takes about three hours to complete. The PAT consists of a 99yd Obstacle Course\, 165lb Body Drag\, Chain Link Fence\, 6ft Solid Wall and 500yd Sprint. \nWalk-ups are welcome. Dress in workout attire and bring your own water. See you there!
URL:https://sheriffsjobs.sbcounty.gov/event/physical-agility-test-062924/
LOCATION:Sheriff’s Academy\, 18901 Institution Rd\, San Bernardino\, CA\, 92407\, United States
CATEGORIES:Physical Agility Test
END:VEVENT
BEGIN:VEVENT
DTSTART;TZID=America/Los_Angeles:20240606T083000
DTEND;TZID=America/Los_Angeles:20240606T110000
DTSTAMP:20260425T174259
CREATED:20240515T221917Z
LAST-MODIFIED:20240516T000647Z
UID:10001378-1717662600-1717671600@sheriffsjobs.sbcounty.gov
SUMMARY:Physical Agility Test
DESCRIPTION:Are you ready to start your career in law enforcement? The Physical Agility Test (PAT) is one of the first steps to start the process. Check-in starts at 8:30am and the event takes about three hours to complete. The PAT consists of a 99yd Obstacle Course\, 165lb Body Drag\, Chain Link Fence\, 6ft Solid Wall and 500yd Sprint. \nWalk-ups are welcome. Dress in workout attire and bring your own water. See you there!”
URL:https://sheriffsjobs.sbcounty.gov/event/physical-agility-test-060624/
LOCATION:Sheriff’s Academy\, 18901 Institution Rd\, San Bernardino\, CA\, 92407\, United States
CATEGORIES:Physical Agility Test
END:VEVENT
BEGIN:VEVENT
DTSTART;TZID=America/Los_Angeles:20240601T073000
DTEND;TZID=America/Los_Angeles:20240601T110000
DTSTAMP:20260425T174259
CREATED:20240515T221551Z
LAST-MODIFIED:20240516T000024Z
UID:10001372-1717227000-1717239600@sheriffsjobs.sbcounty.gov
SUMMARY:Physical Agility Test
DESCRIPTION:Are you ready to start your career in law enforcement? The Physical Agility Test (PAT) is one of the first steps to start the process. Check-in starts at 7:30am and the event takes about three hours to complete. The PAT consists of a 99yd Obstacle Course\, 165lb Body Drag\, Chain Link Fence\, 6ft Solid Wall and 500yd Sprint. \nWalk-ups are welcome. Dress in workout attire and bring your own water. See you there!
URL:https://sheriffsjobs.sbcounty.gov/event/physical-agility-test-060124/
LOCATION:Sheriff’s Academy\, 18901 Institution Rd\, San Bernardino\, CA\, 92407\, United States
CATEGORIES:Physical Agility Test
END:VEVENT
END:VCALENDAR