BEGIN:VCALENDAR
VERSION:2.0
PRODID:-//San Bernardino County Sheriff’s Jobs - ECPv6.15.14//NONSGML v1.0//EN
CALSCALE:GREGORIAN
METHOD:PUBLISH
X-ORIGINAL-URL:https://sheriffsjobs.sbcounty.gov
X-WR-CALDESC:Events for San Bernardino County Sheriff’s Jobs
REFRESH-INTERVAL;VALUE=DURATION:PT1H
X-Robots-Tag:noindex
X-PUBLISHED-TTL:PT1H
BEGIN:VTIMEZONE
TZID:America/Los_Angeles
BEGIN:DAYLIGHT
TZOFFSETFROM:-0800
TZOFFSETTO:-0700
TZNAME:PDT
DTSTART:20250309T100000
END:DAYLIGHT
BEGIN:STANDARD
TZOFFSETFROM:-0700
TZOFFSETTO:-0800
TZNAME:PST
DTSTART:20251102T090000
END:STANDARD
BEGIN:DAYLIGHT
TZOFFSETFROM:-0800
TZOFFSETTO:-0700
TZNAME:PDT
DTSTART:20260308T100000
END:DAYLIGHT
BEGIN:STANDARD
TZOFFSETFROM:-0700
TZOFFSETTO:-0800
TZNAME:PST
DTSTART:20261101T090000
END:STANDARD
BEGIN:DAYLIGHT
TZOFFSETFROM:-0800
TZOFFSETTO:-0700
TZNAME:PDT
DTSTART:20270314T100000
END:DAYLIGHT
BEGIN:STANDARD
TZOFFSETFROM:-0700
TZOFFSETTO:-0800
TZNAME:PST
DTSTART:20271107T090000
END:STANDARD
END:VTIMEZONE
BEGIN:VEVENT
DTSTART;TZID=America/Los_Angeles:20260201T150000
DTEND;TZID=America/Los_Angeles:20260201T170000
DTSTAMP:20260421T170710
CREATED:20260121T171257Z
LAST-MODIFIED:20260121T171257Z
UID:10002524-1769958000-1769965200@sheriffsjobs.sbcounty.gov
SUMMARY:Ontario Reign - Black Heritage Night
DESCRIPTION:  \nSan Bernardino County Sheriff’s recruiters will be in attendance at the Ontario Reign game. \nSpeak to a Sheriff’s Recruiter to learn about the many career opportunities we have to offer.
URL:https://sheriffsjobs.sbcounty.gov/event/ontario-reign-black-heritage-night-020126/
LOCATION:Toyota Arena\, 4000 E Ontario Center Pkwy\, Ontario\, CA\, 91764\, United States
CATEGORIES:Recruiting Events
END:VEVENT
BEGIN:VEVENT
DTSTART;TZID=America/Los_Angeles:20260205T083000
DTEND;TZID=America/Los_Angeles:20260205T130000
DTSTAMP:20260421T170710
CREATED:20251222T173757Z
LAST-MODIFIED:20251222T173757Z
UID:10002504-1770280200-1770296400@sheriffsjobs.sbcounty.gov
SUMMARY:Physical Agility Test
DESCRIPTION:Are you ready to start your career in law enforcement? The Physical Agility Test (PAT) is one of the first steps to start the process. Check-in starts at 8:30am and the event takes about three hours to complete. The PAT consists of a 99yd Obstacle Course\, 165lb Body Drag\, Chain Link Fence\, 6ft Solid Wall and 500yd Sprint. \nWalk-ups are welcome. Dress in workout attire and bring your own water. See you there!
URL:https://sheriffsjobs.sbcounty.gov/event/physical-agility-test-020526/
LOCATION:Sheriff’s Academy\, 18901 Institution Rd\, San Bernardino\, CA\, 92407\, United States
CATEGORIES:Physical Agility Test
END:VEVENT
BEGIN:VEVENT
DTSTART;TZID=America/Los_Angeles:20260207T083000
DTEND;TZID=America/Los_Angeles:20260207T130000
DTSTAMP:20260421T170710
CREATED:20251222T174034Z
LAST-MODIFIED:20251222T174034Z
UID:10002510-1770453000-1770469200@sheriffsjobs.sbcounty.gov
SUMMARY:Physical Agility Test
DESCRIPTION:Are you ready to start your career in law enforcement? The Physical Agility Test (PAT) is one of the first steps to start the process. Check-in starts at 8:30am and the event takes about three hours to complete. The PAT consists of a 99yd Obstacle Course\, 165lb Body Drag\, Chain Link Fence\, 6ft Solid Wall and 500yd Sprint. \nWalk-ups are welcome. Dress in workout attire and bring your own water. See you there!
URL:https://sheriffsjobs.sbcounty.gov/event/physical-agility-test-020726/
LOCATION:Sheriff’s Academy\, 18901 Institution Rd\, San Bernardino\, CA\, 92407\, United States
CATEGORIES:Physical Agility Test
END:VEVENT
BEGIN:VEVENT
DTSTART;TZID=America/Los_Angeles:20260207T110000
DTEND;TZID=America/Los_Angeles:20260207T150000
DTSTAMP:20260421T170710
CREATED:20260122T193830Z
LAST-MODIFIED:20260122T193830Z
UID:10002569-1770462000-1770476400@sheriffsjobs.sbcounty.gov
SUMMARY:San Bernardino Black History Festival
DESCRIPTION:
URL:https://sheriffsjobs.sbcounty.gov/event/san-bernardino-black-history-festival-020726/
LOCATION:Arroyo Valley High School\, 1881 W Base Line St\, San Bernardino\, CA\, 92411\, United States
CATEGORIES:Recruiting Events
END:VEVENT
BEGIN:VEVENT
DTSTART;TZID=America/Los_Angeles:20260207T180000
DTEND;TZID=America/Los_Angeles:20260207T200000
DTSTAMP:20260421T170710
CREATED:20260121T171623Z
LAST-MODIFIED:20260121T171623Z
UID:10002527-1770487200-1770494400@sheriffsjobs.sbcounty.gov
SUMMARY:Ontario Reign - Pink in the Rink
DESCRIPTION:  \nSan Bernardino County Sheriff’s recruiters will be in attendance at the Ontario Reign game. \nSpeak to a Sheriff’s Recruiter to learn about the many career opportunities we have to offer.
URL:https://sheriffsjobs.sbcounty.gov/event/ontario-reign-pink-in-the-rink-020726/
LOCATION:Toyota Arena\, 4000 E Ontario Center Pkwy\, Ontario\, CA\, 91764\, United States
CATEGORIES:Recruiting Events
END:VEVENT
BEGIN:VEVENT
DTSTART;TZID=America/Los_Angeles:20260218T190000
DTEND;TZID=America/Los_Angeles:20260218T210000
DTSTAMP:20260421T170710
CREATED:20260121T171754Z
LAST-MODIFIED:20260121T171754Z
UID:10002530-1771441200-1771448400@sheriffsjobs.sbcounty.gov
SUMMARY:Ontario Reign - Olympics Night
DESCRIPTION:  \nSan Bernardino County Sheriff’s recruiters will be in attendance at the Ontario Reign game. \nSpeak to a Sheriff’s Recruiter to learn about the many career opportunities we have to offer.
URL:https://sheriffsjobs.sbcounty.gov/event/ontario-reign-olympics-night-021826/
LOCATION:Toyota Arena\, 4000 E Ontario Center Pkwy\, Ontario\, CA\, 91764\, United States
CATEGORIES:Recruiting Events
END:VEVENT
BEGIN:VEVENT
DTSTART;TZID=America/Los_Angeles:20260219T130000
DTEND;TZID=America/Los_Angeles:20260219T153000
DTSTAMP:20260421T170710
CREATED:20260120T211309Z
LAST-MODIFIED:20260120T211309Z
UID:10002521-1771506000-1771515000@sheriffsjobs.sbcounty.gov
SUMMARY:CBU Spring Career & Internship Fair
DESCRIPTION:  \n \nThe Career Center at CBU is thrilled to invite you to the annual Spring Career and Internship Fair on Thursday\, February 19\, 2026 from 1:00pm-3:30pm located in the Van Dyne Gym.6
URL:https://sheriffsjobs.sbcounty.gov/event/cbu-spring-career-internship-fair/
LOCATION:Cal Baptist University\, 8432 Magnolia Ave\, Riverside\, CA\, 92504\, United States
CATEGORIES:Recruiting Events
END:VEVENT
BEGIN:VEVENT
DTSTART;TZID=America/Los_Angeles:20260219T183000
DTEND;TZID=America/Los_Angeles:20260219T210000
DTSTAMP:20260421T170710
CREATED:20260120T210810Z
LAST-MODIFIED:20260120T210810Z
UID:10002518-1771525800-1771534800@sheriffsjobs.sbcounty.gov
SUMMARY:Empire Strykers - Hometown Heroes Night
DESCRIPTION:  \nSan Bernardino County Sheriff’s recruiters will be in attendance at the Empire Strykers Hometown Heroes Night. \nSpeak to a Sheriff’s Recruiter to learn about the many career opportunities we have to offer.
URL:https://sheriffsjobs.sbcounty.gov/event/empire-strykers-hometown-heroes-night-021926/
LOCATION:Toyota Arena\, 4000 E Ontario Center Pkwy\, Ontario\, CA\, 91764\, United States
CATEGORIES:Recruiting Events
END:VEVENT
BEGIN:VEVENT
DTSTART;TZID=America/Los_Angeles:20260221T080000
DTEND;TZID=America/Los_Angeles:20260221T100000
DTSTAMP:20260421T170710
CREATED:20251222T173236Z
LAST-MODIFIED:20251222T221339Z
UID:10002489-1771660800-1771668000@sheriffsjobs.sbcounty.gov
SUMMARY:Dumbbells & Deputies
DESCRIPTION:Wondering what type of strength and endurance it takes to train for the Academy? Come work out with our deputies and find out! \nThe first half of the event will feature a Career Assistance Program workshop learning about the San Bernardino County Sheriff’s Department’s endless opportunities and have a chance to ask any questions about the department or application process. \nThe second half will move into the workout portion\, where deputies and tactical officers will host a class featuring a high intensity interval circuit of various bodyweight and cardio exercises. \nThe event will be outdoors\, please dress accordingly. Those interested should wear workout attire and bring water. The event will start promptly at 8:00am. \nRegister here >> CLICK HERE TO REGISTER
URL:https://sheriffsjobs.sbcounty.gov/event/dumbbells-deputies-022126/
LOCATION:Sheriff’s Academy\, 18901 Institution Rd\, San Bernardino\, CA\, 92407\, United States
CATEGORIES:Applicant Assistance Program Fitness,Applicant Assistance Program Information Session
END:VEVENT
BEGIN:VEVENT
DTSTART;TZID=America/Los_Angeles:20260221T120000
DTEND;TZID=America/Los_Angeles:20260221T180000
DTSTAMP:20260421T170710
CREATED:20260128T161743Z
LAST-MODIFIED:20260202T224021Z
UID:10002577-1771675200-1771696800@sheriffsjobs.sbcounty.gov
SUMMARY:San Bernardino Lunar New Year Festival
DESCRIPTION:  \n \nCelebrate the Year of the Horse with live entertainment\, music\, great food\, and local art at the 3rd Annual San Bernardino Lunar Festival on Saturday\, February 21\, 2026 from 12:00 PM to 6:00 PM at the Court St. Square Park. This event is free to the public! Speak with a Sheriff’s Recruiter to learn about the vast career opportunities available with the San Bernardino County Sheriff’s Department and follow us on social media!
URL:https://sheriffsjobs.sbcounty.gov/event/san-bernardino-lunar-new-year-festival-022126/
LOCATION:Court Street Square\, 349 North E Street\, San Bernardino\, 92401\, United States
CATEGORIES:Recruiting Events
END:VEVENT
BEGIN:VEVENT
DTSTART;TZID=America/Los_Angeles:20260226T100000
DTEND;TZID=America/Los_Angeles:20260226T140000
DTSTAMP:20260421T170710
CREATED:20260202T221234Z
LAST-MODIFIED:20260202T221234Z
UID:10002586-1772100000-1772114400@sheriffsjobs.sbcounty.gov
SUMMARY:San Diego State Univ. Spring Career & Internship Fair
DESCRIPTION:Thursday\, February 26\, 2026. 10:00 AM – 2:00 PM\n\n\nLocation: Montezuma Hall\n\n\n\nFree to attend!
URL:https://sheriffsjobs.sbcounty.gov/event/san-diego-state-univ-spring-career-internship-fair-022626/
LOCATION:San Diego State University\, 5500 Campanile Dr\, San Diego\, CA\, 92182\, United States
CATEGORIES:Recruiting Events
END:VEVENT
BEGIN:VEVENT
DTSTART;TZID=America/Los_Angeles:20260226T110000
DTEND;TZID=America/Los_Angeles:20260226T140000
DTSTAMP:20260421T170710
CREATED:20260121T211443Z
LAST-MODIFIED:20260121T211443Z
UID:10002548-1772103600-1772114400@sheriffsjobs.sbcounty.gov
SUMMARY:SBCo Hiring Event - High Desert
DESCRIPTION:The San Bernardino County Sheriff’s Department will be at the High Desert-Apple Valley Hiring Event.
URL:https://sheriffsjobs.sbcounty.gov/event/sbco-hiring-event-high-desert-022626/
LOCATION:Apple Valley Conference Center\, 14975 Dale Evans Pkwy\, Apple Valley\, CA\, 92307\, United States
CATEGORIES:Recruiting Events
END:VEVENT
END:VCALENDAR