BEGIN:VCALENDAR
VERSION:2.0
PRODID:-//San Bernardino County Sheriff’s Jobs - ECPv6.15.14//NONSGML v1.0//EN
CALSCALE:GREGORIAN
METHOD:PUBLISH
X-ORIGINAL-URL:https://sheriffsjobs.sbcounty.gov
X-WR-CALDESC:Events for San Bernardino County Sheriff’s Jobs
REFRESH-INTERVAL;VALUE=DURATION:PT1H
X-Robots-Tag:noindex
X-PUBLISHED-TTL:PT1H
BEGIN:VTIMEZONE
TZID:America/Los_Angeles
BEGIN:DAYLIGHT
TZOFFSETFROM:-0800
TZOFFSETTO:-0700
TZNAME:PDT
DTSTART:20230312T100000
END:DAYLIGHT
BEGIN:STANDARD
TZOFFSETFROM:-0700
TZOFFSETTO:-0800
TZNAME:PST
DTSTART:20231105T090000
END:STANDARD
BEGIN:DAYLIGHT
TZOFFSETFROM:-0800
TZOFFSETTO:-0700
TZNAME:PDT
DTSTART:20240310T100000
END:DAYLIGHT
BEGIN:STANDARD
TZOFFSETFROM:-0700
TZOFFSETTO:-0800
TZNAME:PST
DTSTART:20241103T090000
END:STANDARD
BEGIN:DAYLIGHT
TZOFFSETFROM:-0800
TZOFFSETTO:-0700
TZNAME:PDT
DTSTART:20250309T100000
END:DAYLIGHT
BEGIN:STANDARD
TZOFFSETFROM:-0700
TZOFFSETTO:-0800
TZNAME:PST
DTSTART:20251102T090000
END:STANDARD
BEGIN:DAYLIGHT
TZOFFSETFROM:-0800
TZOFFSETTO:-0700
TZNAME:PDT
DTSTART:20260308T100000
END:DAYLIGHT
BEGIN:STANDARD
TZOFFSETFROM:-0700
TZOFFSETTO:-0800
TZNAME:PST
DTSTART:20261101T090000
END:STANDARD
END:VTIMEZONE
BEGIN:VEVENT
DTSTART;TZID=America/Los_Angeles:20251119T090000
DTEND;TZID=America/Los_Angeles:20251119T120000
DTSTAMP:20260421T050828
CREATED:20251113T004922Z
LAST-MODIFIED:20251113T004922Z
UID:10002444-1763542800-1763553600@sheriffsjobs.sbcounty.gov
SUMMARY:SBCo Hiring Event - West Valley
DESCRIPTION:
URL:https://sheriffsjobs.sbcounty.gov/event/sbco-hiring-event-west-valley-111925/
LOCATION:America’s Job Center of CA – West Valley\, 9650 9th Street\, Suite B\, Rancho Cucamonga\, CA\, 91730\, United States
CATEGORIES:Recruiting Events
END:VEVENT
BEGIN:VEVENT
DTSTART;TZID=America/Los_Angeles:20251016T090000
DTEND;TZID=America/Los_Angeles:20251016T120000
DTSTAMP:20260421T050828
CREATED:20250918T151459Z
LAST-MODIFIED:20250918T151459Z
UID:10002373-1760605200-1760616000@sheriffsjobs.sbcounty.gov
SUMMARY:SBCo Hiring Event - West Valley
DESCRIPTION:
URL:https://sheriffsjobs.sbcounty.gov/event/sbco-hiring-event-west-valley-101625/
LOCATION:America’s Job Center of CA – West Valley\, 9650 9th Street\, Suite B\, Rancho Cucamonga\, CA\, 91730\, United States
CATEGORIES:Recruiting Events
END:VEVENT
BEGIN:VEVENT
DTSTART;TZID=America/Los_Angeles:20250717T090000
DTEND;TZID=America/Los_Angeles:20250717T120000
DTSTAMP:20260421T050828
CREATED:20250625T161243Z
LAST-MODIFIED:20250625T161243Z
UID:10002062-1752742800-1752753600@sheriffsjobs.sbcounty.gov
SUMMARY:Hiring Event - West Valley
DESCRIPTION:
URL:https://sheriffsjobs.sbcounty.gov/event/hiring-event-west-valley-071725/
LOCATION:America’s Job Center of CA – West Valley\, 9650 9th Street\, Suite B\, Rancho Cucamonga\, CA\, 91730\, United States
CATEGORIES:Recruiting Events
END:VEVENT
BEGIN:VEVENT
DTSTART;TZID=America/Los_Angeles:20241205T090000
DTEND;TZID=America/Los_Angeles:20241205T120000
DTSTAMP:20260421T050828
CREATED:20241202T171701Z
LAST-MODIFIED:20241202T171701Z
UID:10001706-1733389200-1733400000@sheriffsjobs.sbcounty.gov
SUMMARY:America's Job Center of California Job Fair
DESCRIPTION:  \n \nSan Bernardino County Workforce Development Center WVAJCC \nVeterans’ reps\, employment reps\, phones\, free internet & resume writer access computers are on site. Representatives are available with an appointment. Full range of job seeker and employer services. \nClick here for more info!
URL:https://sheriffsjobs.sbcounty.gov/event/americas-job-center-of-california-job-fair-120524/
LOCATION:America’s Job Center of CA – West Valley\, 9650 9th Street\, Suite B\, Rancho Cucamonga\, CA\, 91730\, United States
CATEGORIES:Recruiting Events
END:VEVENT
BEGIN:VEVENT
DTSTART;TZID=America/Los_Angeles:20241017T090000
DTEND;TZID=America/Los_Angeles:20241017T120000
DTSTAMP:20260421T050828
CREATED:20240829T192628Z
LAST-MODIFIED:20240829T192628Z
UID:10001558-1729155600-1729166400@sheriffsjobs.sbcounty.gov
SUMMARY:West Valley Hiring Event
DESCRIPTION:
URL:https://sheriffsjobs.sbcounty.gov/event/hiring-event-west-valley-101724/
LOCATION:America’s Job Center of CA – West Valley\, 9650 9th Street\, Suite B\, Rancho Cucamonga\, CA\, 91730\, United States
CATEGORIES:Recruiting Events
END:VEVENT
END:VCALENDAR