BEGIN:VCALENDAR
VERSION:2.0
PRODID:-//San Bernardino County Sheriff’s Jobs - ECPv6.15.14//NONSGML v1.0//EN
CALSCALE:GREGORIAN
METHOD:PUBLISH
X-WR-CALNAME:San Bernardino County Sheriff’s Jobs
X-ORIGINAL-URL:https://sheriffsjobs.sbcounty.gov
X-WR-CALDESC:Events for San Bernardino County Sheriff’s Jobs
REFRESH-INTERVAL;VALUE=DURATION:PT1H
X-Robots-Tag:noindex
X-PUBLISHED-TTL:PT1H
BEGIN:VTIMEZONE
TZID:America/Los_Angeles
BEGIN:DAYLIGHT
TZOFFSETFROM:-0800
TZOFFSETTO:-0700
TZNAME:PDT
DTSTART:20250309T100000
END:DAYLIGHT
BEGIN:STANDARD
TZOFFSETFROM:-0700
TZOFFSETTO:-0800
TZNAME:PST
DTSTART:20251102T090000
END:STANDARD
BEGIN:DAYLIGHT
TZOFFSETFROM:-0800
TZOFFSETTO:-0700
TZNAME:PDT
DTSTART:20260308T100000
END:DAYLIGHT
BEGIN:STANDARD
TZOFFSETFROM:-0700
TZOFFSETTO:-0800
TZNAME:PST
DTSTART:20261101T090000
END:STANDARD
BEGIN:DAYLIGHT
TZOFFSETFROM:-0800
TZOFFSETTO:-0700
TZNAME:PDT
DTSTART:20270314T100000
END:DAYLIGHT
BEGIN:STANDARD
TZOFFSETFROM:-0700
TZOFFSETTO:-0800
TZNAME:PST
DTSTART:20271107T090000
END:STANDARD
END:VTIMEZONE
BEGIN:VEVENT
DTSTART;TZID=America/Los_Angeles:20260502T120000
DTEND;TZID=America/Los_Angeles:20260502T150000
DTSTAMP:20260422T153128
CREATED:20260422T143436Z
LAST-MODIFIED:20260422T143436Z
UID:10002662-1777723200-1777734000@sheriffsjobs.sbcounty.gov
SUMMARY:March ARB 163rd Attack Wing Family Day
DESCRIPTION:Annually\, the 163rd Attack Wing\, Air National Guard recognizes the contributions of service members and their families during their Family Day event. This year’s Family Day is scheduled for Saturday\, May 2\, 2026\, from 12:00 PM to 3:00 PM at March Air Reserve Base\, CA. The BBQ Party\, located in the FTU parking lot\, will be filled with exciting games\, activities for kids and giveaways! Food and drinks will be provided. All airmen\, volunteers and families welcomed. Be sure to stop by our booth and speak with a San Bernardino County Sheriff’s Recruiter to learn about the vast career opportunities we have to offer.
URL:https://sheriffsjobs.sbcounty.gov/event/march-arb-163rd-attack-wing-family-day-050226/
LOCATION:March Air Reserve Base\, 15305 6th St\, March Air Reserve Base\, CA\, 92518\, United States
CATEGORIES:Recruiting Events
END:VEVENT
END:VCALENDAR